BEGIN:VCALENDAR
METHOD:PUBLISH
PRODID:www-lms-tf-fau-de//Events//DE
VERSION:2.0
BEGIN:VEVENT
SUMMARY:Video WKR: Unconditional Graph Generation with Application to 
 IEC 61131-3 Sequential Function Charts
UID:7618-a0ca-5e54-47977@www.lms.tf.fau.de
DTSTART:20250310T100000Z
DTEND:20250310T110000Z
LOCATION:05.025
DTSTAMP:20260422T165307Z
END:VEVENT
END:VCALENDAR